BEGIN:VCALENDAR
PRODID:-//AT Content Types//AT Event//EN
VERSION:2.0
METHOD:PUBLISH
BEGIN:VEVENT
DTSTAMP:20260422T052213Z
CREATED:20240801T155809Z
UID:ATEvent-eb07510107984bbab7c26a12683e3b8c
LAST-MODIFIED:20240919T082021Z
SUMMARY:Sports Awards Ceremony
DTSTART:20241026T170000Z
DTEND:20241026T210000Z
DESCRIPTION:Evening of celebration
CLASS:PUBLIC
END:VEVENT
END:VCALENDAR
